BEGIN:VCALENDAR
VERSION:2.0
PRODID:-//ChamberMaster//Event Calendar 2.0//EN
METHOD:PUBLISH
X-PUBLISHED-TTL:P3D
REFRESH-INTERVAL:P3D
CALSCALE:GREGORIAN
BEGIN:VEVENT
DTSTART:20161110T200000Z
DTEND:20161110T210000Z
X-MICROSOFT-CDO-ALLDAYEVENT:FALSE
SUMMARY:DIY Sugar Scrub
DESCRIPTION:Learn how to make your own sugar scrubs at home. All materials provided. Call 357-2264 to register.
X-ALT-DESC;FMTTYPE=text/html:Learn how to make your own sugar scrubs at home. All materials provided. Call 357-2264 to register.
LOCATION:Smithfield Public Library
UID:e.2406.11452
SEQUENCE:3
DTSTAMP:20260421T072146Z
URL:http://theisle.chambermaster.com/events/details/diy-sugar-scrub-11452
END:VEVENT

END:VCALENDAR
