BEGIN:VCALENDAR
VERSION:2.0
PRODID:-//ChamberMaster//Event Calendar 2.0//EN
METHOD:PUBLISH
X-PUBLISHED-TTL:P3D
REFRESH-INTERVAL:P3D
CALSCALE:GREGORIAN
BEGIN:VEVENT
DTSTART:20170304T200000Z
DTEND:20170304T210000Z
X-MICROSOFT-CDO-ALLDAYEVENT:FALSE
SUMMARY:Fossil Walk
DESCRIPTION:Calling all fossil seekers! Join an interpreter at the River House parking lot for an adventure through the abundant fossil beds at Chippokes. Meet in the Museum parking lot.
X-ALT-DESC;FMTTYPE=text/html:Calling all fossil seekers! Join an interpreter at the River House parking lot for an adventure through the abundant fossil beds at Chippokes. Meet in the Museum parking lot.
LOCATION:Chippokes Plantation State Park 695 Chippokes Park Rd.\, Surry\, VA 23883
UID:e.2406.11790
SEQUENCE:3
DTSTAMP:20260421T054056Z
URL:http://theisle.chambermaster.com/events/details/fossil-walk-11790
END:VEVENT

END:VCALENDAR
